BEGIN:VCALENDAR
VERSION:2.0
PRODID:-//eventon.com NONSGML v1.0//EN
CALSCALE:GREGORIAN
METHOD:PUBLISH
BEGIN:VEVENT
UID:69e7404b80181
DTSTAMP:20260421T091555Z
DTSTART:20151016T000000Z
DTEND:20151018T235900Z
LOCATION:Albergue de ValleHermoso La Solana Ciudad Real
SUMMARY:Trobo Voluntariat Andorra i Espanya
DESCRIPTION:Trobo de Voluntariat dAndorra i Espanya en La Solana Ciudad Rea
 l dies 1617 i 18 doctubre de 2015\nhttps://aiguadecoco.org/events/trobo-vol
 untariat-andorra-i-espanya/
URL:https://aiguadecoco.org/events/trobo-voluntariat-andorra-i-espanya/
END:VEVENT
END:VCALENDAR